BEGIN:VCALENDAR
VERSION:2.0
PRODID:-//ChamberMaster//Event Calendar 2.0//EN
METHOD:PUBLISH
X-PUBLISHED-TTL:P3D
REFRESH-INTERVAL:P3D
CALSCALE:GREGORIAN
BEGIN:VEVENT
DTSTART:20260504T230000Z
DTEND:20260505T010000Z
X-MICROSOFT-CDO-ALLDAYEVENT:FALSE
SUMMARY:Festival Barn Concert Season Kickoff
DESCRIPTION:Join us on MONDAY\, May 4 at 7p.m. in the Folk School's Festival Barn in Brasstown. Enjoy a concert with Evie Ladin & Keith Terry open to the public. Evie and Keith are innovative musicians with a quirky neo-trad soul\, Oakland\, California-based artists throw down original folk songs and deep interpretations of old songs\, with the kinetic thrill of percussive dance.\n\n\n\n"Ladin sings and plays infectious clawhammer banjo\, while Terry is a master percussionist. It was Appalachian string band music pared to the absolute minimum of accompaniment but packed with an orchestra's worth of rhythm."   Music City Roots\, Nashville\n\n\n\nLee Johnson\, will open up the show with a short set of groovy banjo music.
X-ALT-DESC;FMTTYPE=text/html:Join us on MONDAY\, May 4 at 7p.m. in the Folk School&rsquo\;s Festival Barn in Brasstown. Enjoy a concert with Evie Ladin &amp\; Keith Terry open to the public. Evie and Keith are innovative musicians with a quirky neo-trad soul\, Oakland\, California-based artists throw down original folk songs and deep interpretations of old songs\, with the kinetic thrill of percussive dance.<br />\n<br />\n&ldquo\;Ladin sings and plays infectious clawhammer banjo\, while Terry is a master percussionist. It was Appalachian string band music pared to the absolute minimum of accompaniment but packed with an orchestra&rsquo\;s worth of rhythm.&rdquo\; &ndash\; Music City Roots\, Nashville<br />\n<br />\nLee Johnson\, will open up the show with a short set of groovy banjo music.
LOCATION:One Folk School Road Brasstown\, NC 28902
UID:e.1652.51530
SEQUENCE:3
DTSTAMP:20260424T184451Z
URL:https://business.golakechatuge.com/events/details/festival-barn-concert-season-kickoff-51530
END:VEVENT

END:VCALENDAR
