BEGIN:VCALENDAR
VERSION:2.0
PRODID:-//ChamberMaster//Event Calendar 2.0//EN
METHOD:PUBLISH
X-PUBLISHED-TTL:P3D
REFRESH-INTERVAL:P3D
CALSCALE:GREGORIAN
BEGIN:VEVENT
DTSTART;VALUE=DATE:20181001
DTEND;VALUE=DATE:20181101
TRANSP:TRANSPARENT
X-MICROSOFT-CDO-ALLDAYEVENT:TRUE
SUMMARY:Scarecrow Invasion on the Square
DESCRIPTION:The Hiawassee Square has been invaded by scarecrows! As you come into town during the month of October you will be welcomed by dozens of our silly and creative scarecrows. Our businesses are competing for the best scarecrow and we need your votes! Once you have picked yoru favorite scarecrow\, please call us to cast your vote\, or you can leave a comment on the Towns County Chamber Facebook page\, or you can leave your ballot in the box at the Square. \n\n\n\nBusinesses\, non-profits\, and individuals are welcome to join us in the fun of decorating your scarecrow.  Register your scarecrow to participate!
X-ALT-DESC;FMTTYPE=text/html:The Hiawassee Square has been invaded by scarecrows! As you come into town during the month of October you will be welcomed by dozens of our silly and creative scarecrows. Our businesses are competing for the best scarecrow and we need your votes! Once you have picked yoru favorite scarecrow\, please call us to cast your vote\, or you can leave a comment on the Towns County Chamber Facebook page\, or you can leave your ballot in the box at the Square.&nbsp\;<br />\n<br />\nBusinesses\, non-profits\, and individuals are welcome to join us in the fun of decorating your scarecrow.&nbsp\; Register your scarecrow to participate!&nbsp\;
LOCATION:Hiawasse Square River Street Hiawassee\, GA
UID:e.1652.32182
SEQUENCE:3
DTSTAMP:20260420T104116Z
URL:https://business.golakechatuge.com/events/details/scarecrow-invasion-on-the-square-32182
END:VEVENT

END:VCALENDAR
